BEGIN:VCALENDAR
VERSION:2.0
PRODID:-//Beloka Kelpie Stud and Working Dog Training - ECPv6.15.20//NONSGML v1.0//EN
CALSCALE:GREGORIAN
METHOD:PUBLISH
X-ORIGINAL-URL:https://belokakelpies.com.au
X-WR-CALDESC:Events for Beloka Kelpie Stud and Working Dog Training
REFRESH-INTERVAL;VALUE=DURATION:PT1H
X-Robots-Tag:noindex
X-PUBLISHED-TTL:PT1H
BEGIN:VTIMEZONE
TZID:Australia/Melbourne
BEGIN:STANDARD
TZOFFSETFROM:+1100
TZOFFSETTO:+1000
TZNAME:AEST
DTSTART:20240406T160000
END:STANDARD
BEGIN:DAYLIGHT
TZOFFSETFROM:+1000
TZOFFSETTO:+1100
TZNAME:AEDT
DTSTART:20241005T160000
END:DAYLIGHT
BEGIN:STANDARD
TZOFFSETFROM:+1100
TZOFFSETTO:+1000
TZNAME:AEST
DTSTART:20250405T160000
END:STANDARD
BEGIN:DAYLIGHT
TZOFFSETFROM:+1000
TZOFFSETTO:+1100
TZNAME:AEDT
DTSTART:20251004T160000
END:DAYLIGHT
BEGIN:STANDARD
TZOFFSETFROM:+1100
TZOFFSETTO:+1000
TZNAME:AEST
DTSTART:20260404T160000
END:STANDARD
BEGIN:DAYLIGHT
TZOFFSETFROM:+1000
TZOFFSETTO:+1100
TZNAME:AEDT
DTSTART:20261003T160000
END:DAYLIGHT
END:VTIMEZONE
BEGIN:VEVENT
DTSTART;VALUE=DATE:20250408
DTEND;VALUE=DATE:20250410
DTSTAMP:20260424T234009
CREATED:20250311T033339Z
LAST-MODIFIED:20250319T105747Z
UID:8070-1744070400-1744243199@belokakelpies.com.au
SUMMARY:Working Dog School - MALLEE - Postponed
DESCRIPTION:Due to unforeseen circumstances we have postponed this to a later (unknown) date.\nWe apologise for any inconvenience.
URL:https://belokakelpies.com.au/event/working-dog-school-mallee-april-89/
LOCATION:196 nullawill north Rd Nullawil\, 196 Nullawill North Rd\, Nullawil\, VIC
ATTACH;FMTTYPE=image/jpeg:https://media.belokakelpies.com.au/wp-content/uploads/2025/03/Screen-Shot-2025-03-11-at-23052-pm.jpg
ORGANIZER;CN="Anneke Homan":MAILTO:anneke@belokakelpies.com.au
END:VEVENT
END:VCALENDAR