BEGIN:VCALENDAR
VERSION:2.0
PRODID:-//Beloka Kelpie Stud and Working Dog Training - ECPv6.15.20//NONSGML v1.0//EN
CALSCALE:GREGORIAN
METHOD:PUBLISH
X-WR-CALNAME:Beloka Kelpie Stud and Working Dog Training
X-ORIGINAL-URL:https://belokakelpies.com.au
X-WR-CALDESC:Events for Beloka Kelpie Stud and Working Dog Training
REFRESH-INTERVAL;VALUE=DURATION:PT1H
X-Robots-Tag:noindex
X-PUBLISHED-TTL:PT1H
BEGIN:VTIMEZONE
TZID:Australia/Melbourne
BEGIN:STANDARD
TZOFFSETFROM:+1100
TZOFFSETTO:+1000
TZNAME:AEST
DTSTART:20240406T160000
END:STANDARD
BEGIN:DAYLIGHT
TZOFFSETFROM:+1000
TZOFFSETTO:+1100
TZNAME:AEDT
DTSTART:20241005T160000
END:DAYLIGHT
BEGIN:STANDARD
TZOFFSETFROM:+1100
TZOFFSETTO:+1000
TZNAME:AEST
DTSTART:20250405T160000
END:STANDARD
BEGIN:DAYLIGHT
TZOFFSETFROM:+1000
TZOFFSETTO:+1100
TZNAME:AEDT
DTSTART:20251004T160000
END:DAYLIGHT
BEGIN:STANDARD
TZOFFSETFROM:+1100
TZOFFSETTO:+1000
TZNAME:AEST
DTSTART:20260404T160000
END:STANDARD
BEGIN:DAYLIGHT
TZOFFSETFROM:+1000
TZOFFSETTO:+1100
TZNAME:AEDT
DTSTART:20261003T160000
END:DAYLIGHT
END:VTIMEZONE
BEGIN:VEVENT
DTSTART;VALUE=DATE:20250925
DTEND;VALUE=DATE:20250927
DTSTAMP:20260424T235319
CREATED:20250814T233601Z
LAST-MODIFIED:20250831T001827Z
UID:8534-1758758400-1758931199@belokakelpies.com.au
SUMMARY:Working Dog School - Thu 25 & Fri 26 Sept - ARARAT
DESCRIPTION:Two day dog training course. For more info about what the course entails\, take a look at ‘About our Training’.\nYou can bring multiple dogs\, but you get one turn per exercise when you book one working spot. \nLocation: 896 Helendoite Rd Tatyoon 3378 \nLimited places available! \nAll info will be emailed a week prior to the Dog School
URL:https://belokakelpies.com.au/event/working-dog-school-thu-25-fri-26-sept-ararat/
LOCATION:Victoria
ATTACH;FMTTYPE=image/jpeg:https://media.belokakelpies.com.au/wp-content/uploads/2025/08/Screenshot-2025-08-15-at-93136-am.jpg
END:VEVENT
END:VCALENDAR