BEGIN:VCALENDAR
VERSION:2.0
PRODID:-//Beloka Kelpie Stud and Working Dog Training - ECPv6.15.20//NONSGML v1.0//EN
CALSCALE:GREGORIAN
METHOD:PUBLISH
X-WR-CALNAME:Beloka Kelpie Stud and Working Dog Training
X-ORIGINAL-URL:https://belokakelpies.com.au
X-WR-CALDESC:Events for Beloka Kelpie Stud and Working Dog Training
REFRESH-INTERVAL;VALUE=DURATION:PT1H
X-Robots-Tag:noindex
X-PUBLISHED-TTL:PT1H
BEGIN:VTIMEZONE
TZID:Australia/Melbourne
BEGIN:STANDARD
TZOFFSETFROM:+1100
TZOFFSETTO:+1000
TZNAME:AEST
DTSTART:20240406T160000
END:STANDARD
BEGIN:DAYLIGHT
TZOFFSETFROM:+1000
TZOFFSETTO:+1100
TZNAME:AEDT
DTSTART:20241005T160000
END:DAYLIGHT
BEGIN:STANDARD
TZOFFSETFROM:+1100
TZOFFSETTO:+1000
TZNAME:AEST
DTSTART:20250405T160000
END:STANDARD
BEGIN:DAYLIGHT
TZOFFSETFROM:+1000
TZOFFSETTO:+1100
TZNAME:AEDT
DTSTART:20251004T160000
END:DAYLIGHT
BEGIN:STANDARD
TZOFFSETFROM:+1100
TZOFFSETTO:+1000
TZNAME:AEST
DTSTART:20260404T160000
END:STANDARD
BEGIN:DAYLIGHT
TZOFFSETFROM:+1000
TZOFFSETTO:+1100
TZNAME:AEDT
DTSTART:20261003T160000
END:DAYLIGHT
END:VTIMEZONE
BEGIN:VEVENT
DTSTART;VALUE=DATE:20251101
DTEND;VALUE=DATE:20251103
DTSTAMP:20260425T014726
CREATED:20250809T035055Z
LAST-MODIFIED:20250809T035055Z
UID:8517-1761955200-1762127999@belokakelpies.com.au
SUMMARY:Whittlesea Show - Nov 1 & 2
DESCRIPTION:We will be doing Working Dog Demonstrations during the Whittlesea Show \nClick here for more information
URL:https://belokakelpies.com.au/event/whittlesea-show-nov-1-2/
LOCATION:Victoria
ATTACH;FMTTYPE=image/jpeg:https://media.belokakelpies.com.au/wp-content/uploads/2025/08/Elmore-Field-Days-2024-photo.jpeg
END:VEVENT
END:VCALENDAR