BEGIN:VCALENDAR
VERSION:2.0
PRODID:-//Beloka Kelpie Stud and Working Dog Training - ECPv6.15.20//NONSGML v1.0//EN
CALSCALE:GREGORIAN
METHOD:PUBLISH
X-ORIGINAL-URL:https://belokakelpies.com.au
X-WR-CALDESC:Events for Beloka Kelpie Stud and Working Dog Training
REFRESH-INTERVAL;VALUE=DURATION:PT1H
X-Robots-Tag:noindex
X-PUBLISHED-TTL:PT1H
BEGIN:VTIMEZONE
TZID:Australia/Melbourne
BEGIN:STANDARD
TZOFFSETFROM:+1100
TZOFFSETTO:+1000
TZNAME:AEST
DTSTART:20240406T160000
END:STANDARD
BEGIN:DAYLIGHT
TZOFFSETFROM:+1000
TZOFFSETTO:+1100
TZNAME:AEDT
DTSTART:20241005T160000
END:DAYLIGHT
BEGIN:STANDARD
TZOFFSETFROM:+1100
TZOFFSETTO:+1000
TZNAME:AEST
DTSTART:20250405T160000
END:STANDARD
BEGIN:DAYLIGHT
TZOFFSETFROM:+1000
TZOFFSETTO:+1100
TZNAME:AEDT
DTSTART:20251004T160000
END:DAYLIGHT
BEGIN:STANDARD
TZOFFSETFROM:+1100
TZOFFSETTO:+1000
TZNAME:AEST
DTSTART:20260404T160000
END:STANDARD
BEGIN:DAYLIGHT
TZOFFSETFROM:+1000
TZOFFSETTO:+1100
TZNAME:AEDT
DTSTART:20261003T160000
END:DAYLIGHT
END:VTIMEZONE
BEGIN:VEVENT
DTSTART;VALUE=DATE:20251129
DTEND;VALUE=DATE:20251201
DTSTAMP:20260425T134345
CREATED:20250425T233733Z
LAST-MODIFIED:20250425T233822Z
UID:8215-1764374400-1764547199@belokakelpies.com.au
SUMMARY:29th Annual Beloka Working Dog Trials - November 29 & 30
DESCRIPTION:Date: Nov 29 & 30 \nThis event is open to the public.\nBooking is not required\, there is a donation box at the gate to help run the event. \nYou can BYO dog on leash\, as long as it is reasonably well behaved. \nThere will be a food and coffee van on site \nCamping is availble for $10 per night\, booking not required. \nEntry forms\, Program of Events and all info will be published HERE
URL:https://belokakelpies.com.au/event/29th-annual-beloka-working-dog-trials-november-29-30/
LOCATION:Beloka Kelpie Stud\, 5845 South Gippsland Hwy\, Welshpool\, Victoria\, 3966\, Australia
ATTACH;FMTTYPE=image/jpeg:https://media.belokakelpies.com.au/wp-content/uploads/2017/01/1704-Beloka-Easter-Trial-44-of-110.jpg
END:VEVENT
END:VCALENDAR