BEGIN:VCALENDAR
VERSION:2.0
PRODID:-//Beloka Kelpie Stud and Working Dog Training - ECPv6.15.20//NONSGML v1.0//EN
CALSCALE:GREGORIAN
METHOD:PUBLISH
X-ORIGINAL-URL:https://belokakelpies.com.au
X-WR-CALDESC:Events for Beloka Kelpie Stud and Working Dog Training
REFRESH-INTERVAL;VALUE=DURATION:PT1H
X-Robots-Tag:noindex
X-PUBLISHED-TTL:PT1H
BEGIN:VTIMEZONE
TZID:Australia/Melbourne
BEGIN:STANDARD
TZOFFSETFROM:+1100
TZOFFSETTO:+1000
TZNAME:AEST
DTSTART:20230401T160000
END:STANDARD
BEGIN:DAYLIGHT
TZOFFSETFROM:+1000
TZOFFSETTO:+1100
TZNAME:AEDT
DTSTART:20230930T160000
END:DAYLIGHT
BEGIN:STANDARD
TZOFFSETFROM:+1100
TZOFFSETTO:+1000
TZNAME:AEST
DTSTART:20240406T160000
END:STANDARD
BEGIN:DAYLIGHT
TZOFFSETFROM:+1000
TZOFFSETTO:+1100
TZNAME:AEDT
DTSTART:20241005T160000
END:DAYLIGHT
BEGIN:STANDARD
TZOFFSETFROM:+1100
TZOFFSETTO:+1000
TZNAME:AEST
DTSTART:20250405T160000
END:STANDARD
BEGIN:DAYLIGHT
TZOFFSETFROM:+1000
TZOFFSETTO:+1100
TZNAME:AEDT
DTSTART:20251004T160000
END:DAYLIGHT
END:VTIMEZONE
BEGIN:VEVENT
DTSTART;VALUE=DATE:20240305
DTEND;VALUE=DATE:20240306
DTSTAMP:20260426T141350
CREATED:20240208T015845Z
LAST-MODIFIED:20240208T020441Z
UID:7079-1709596800-1709683199@belokakelpies.com.au
SUMMARY:Working Dog Lesson - Tue March 5
DESCRIPTION:From 11am until finished\, we will help you with any issues you are having. In the morning we focus on manners & obedience\, in the afternoon we will focus on herding. \nNB: Australian Cattle Dog owners: a muzzle is required for herding. Contact us for more information. \nKelpies\, border collies and other herding breeds: no muzzle required. \nAll details will be emailed to you a few days prior to the Lesson Day.
URL:https://belokakelpies.com.au/event/working-dog-lesson-tue-march-5/
LOCATION:Beloka Kelpie Stud\, 5845 South Gippsland Hwy\, Welshpool\, Victoria\, 3966\, Australia
ATTACH;FMTTYPE=image/jpeg:https://media.belokakelpies.com.au/wp-content/uploads/sites/14/2022/10/12172804/Dog-Lessons-Friends-e1698636176366.jpg
ORGANIZER;CN="Anneke Homan":MAILTO:anneke@belokakelpies.com.au
END:VEVENT
BEGIN:VEVENT
DTSTART;VALUE=DATE:20240316
DTEND;VALUE=DATE:20240318
DTSTAMP:20260426T141350
CREATED:20231109T232219Z
LAST-MODIFIED:20240309T230208Z
UID:6867-1710547200-1710719999@belokakelpies.com.au
SUMMARY:Working Dog School - March 16&17
DESCRIPTION:Two day dog training course. For more info abut what the course entails\, take a look at ‘About our Training’.\nYou can bring multiple dogs\, but you get one turn per exercise.
URL:https://belokakelpies.com.au/event/working-dog-school-march-1617/
LOCATION:Beloka Kelpie Stud\, 5845 South Gippsland Hwy\, Welshpool\, Victoria\, 3966\, Australia
CATEGORIES:Working Dog School
ATTACH;FMTTYPE=image/jpeg:https://media.belokakelpies.com.au/wp-content/uploads/2022/05/beloka-working-dog-school.jpeg
ORGANIZER;CN="Anneke Homan":MAILTO:anneke@belokakelpies.com.au
END:VEVENT
BEGIN:VEVENT
DTSTART;VALUE=DATE:20240330
DTEND;VALUE=DATE:20240401
DTSTAMP:20260426T141350
CREATED:20231109T232746Z
LAST-MODIFIED:20231109T232746Z
UID:6871-1711756800-1711929599@belokakelpies.com.au
SUMMARY:BELOKA EASTER DOG TRIALS - March 30&31
DESCRIPTION:This event is open to the public. Booking is not required\, there is a donation box at the gate to help run the event. You can camp on the property for $10\, pre booking not required.\nFor more information click here.\nWe will put more updates online in February
URL:https://belokakelpies.com.au/event/beloka-easter-dog-trials-march-3031/
LOCATION:Beloka Kelpie Stud\, 5845 South Gippsland Hwy\, Welshpool\, Victoria\, 3966\, Australia
ATTACH;FMTTYPE=image/jpeg:https://media.belokakelpies.com.au/wp-content/uploads/2021/11/Screen-Shot-2021-11-16-at-10.40.47-am.jpg
ORGANIZER;CN="Anneke Homan":MAILTO:anneke@belokakelpies.com.au
END:VEVENT
END:VCALENDAR