BEGIN:VCALENDAR
VERSION:2.0
PRODID:-//Beloka Kelpie Stud and Working Dog Training - ECPv6.15.20//NONSGML v1.0//EN
CALSCALE:GREGORIAN
METHOD:PUBLISH
X-WR-CALNAME:Beloka Kelpie Stud and Working Dog Training
X-ORIGINAL-URL:https://belokakelpies.com.au
X-WR-CALDESC:Events for Beloka Kelpie Stud and Working Dog Training
REFRESH-INTERVAL;VALUE=DURATION:PT1H
X-Robots-Tag:noindex
X-PUBLISHED-TTL:PT1H
BEGIN:VTIMEZONE
TZID:Australia/Melbourne
BEGIN:STANDARD
TZOFFSETFROM:+1100
TZOFFSETTO:+1000
TZNAME:AEST
DTSTART:20230401T160000
END:STANDARD
BEGIN:DAYLIGHT
TZOFFSETFROM:+1000
TZOFFSETTO:+1100
TZNAME:AEDT
DTSTART:20230930T160000
END:DAYLIGHT
BEGIN:STANDARD
TZOFFSETFROM:+1100
TZOFFSETTO:+1000
TZNAME:AEST
DTSTART:20240406T160000
END:STANDARD
BEGIN:DAYLIGHT
TZOFFSETFROM:+1000
TZOFFSETTO:+1100
TZNAME:AEDT
DTSTART:20241005T160000
END:DAYLIGHT
BEGIN:STANDARD
TZOFFSETFROM:+1100
TZOFFSETTO:+1000
TZNAME:AEST
DTSTART:20250405T160000
END:STANDARD
BEGIN:DAYLIGHT
TZOFFSETFROM:+1000
TZOFFSETTO:+1100
TZNAME:AEDT
DTSTART:20251004T160000
END:DAYLIGHT
END:VTIMEZONE
BEGIN:VEVENT
DTSTART;VALUE=DATE:20240504
DTEND;VALUE=DATE:20240506
DTSTAMP:20260426T112737
CREATED:20240122T051843Z
LAST-MODIFIED:20240122T051956Z
UID:7041-1714780800-1714953599@belokakelpies.com.au
SUMMARY:Advanced Dog School - May 4&5
DESCRIPTION:For people who have done a few Dog Schools and are ready for the next step.\nDuring this school we will focus on stock work only.  \nCost is $440 ($400+GST) \nPlease book in via email: info@belokakelpies.com.au
URL:https://belokakelpies.com.au/event/advanced-dog-school-may-45/
LOCATION:Beloka Kelpie Stud\, 5845 South Gippsland Hwy\, Welshpool\, Victoria\, 3966\, Australia
CATEGORIES:Working Dog School
ATTACH;FMTTYPE=image/jpeg:https://media.belokakelpies.com.au/wp-content/uploads/2017/01/1704-Beloka-Easter-Trial-44-of-110.jpg
ORGANIZER;CN="Anneke Homan":MAILTO:anneke@belokakelpies.com.au
END:VEVENT
BEGIN:VEVENT
DTSTART;VALUE=DATE:20240518
DTEND;VALUE=DATE:20240520
DTSTAMP:20260426T112737
CREATED:20240122T053056Z
LAST-MODIFIED:20240122T053056Z
UID:7049-1715990400-1716163199@belokakelpies.com.au
SUMMARY:Working Dog School – May 18&19
DESCRIPTION:Two day dog training course. For more info abut what the course entails\, take a look at ‘About our Training’.\nYou can bring multiple dogs\, but you get one turn per exercise.
URL:https://belokakelpies.com.au/event/working-dog-school-may-1819/
LOCATION:Beloka Kelpie Stud\, 5845 South Gippsland Hwy\, Welshpool\, Victoria\, 3966\, Australia
ATTACH;FMTTYPE=image/jpeg:https://media.belokakelpies.com.au/wp-content/uploads/2022/05/beloka-working-dog-school.jpeg
ORGANIZER;CN="Anneke Homan":MAILTO:anneke@belokakelpies.com.au
END:VEVENT
BEGIN:VEVENT
DTSTART;VALUE=DATE:20240522
DTEND;VALUE=DATE:20240523
DTSTAMP:20260426T112737
CREATED:20240407T093620Z
LAST-MODIFIED:20240407T093620Z
UID:7252-1716336000-1716422399@belokakelpies.com.au
SUMMARY:Working Dog Lesson - Wed May 22
DESCRIPTION:From 11am until finished\, we will help you with any issues you are having. In the morning we focus on manners & obedience\, in the afternoon we will focus on herding. \nNB: Australian Cattle Dog owners: a muzzle is required for herding. Contact us for more information. \nKelpies\, border collies and other herding breeds: no muzzle required. \nAll details will be emailed to you a few days prior to the Lesson Day.
URL:https://belokakelpies.com.au/event/working-dog-lesson-wed-may-22/
LOCATION:Beloka Kelpie Stud\, 5845 South Gippsland Hwy\, Welshpool\, Victoria\, 3966\, Australia
ATTACH;FMTTYPE=image/jpeg:https://media.belokakelpies.com.au/wp-content/uploads/sites/14/2022/10/12172804/Dog-Lessons-Friends-e1698636176366.jpg
ORGANIZER;CN="Anneke Homan":MAILTO:anneke@belokakelpies.com.au
END:VEVENT
BEGIN:VEVENT
DTSTART;VALUE=DATE:20240525
DTEND;VALUE=DATE:20240527
DTSTAMP:20260426T112737
CREATED:20240424T001425Z
LAST-MODIFIED:20240510T004103Z
UID:7302-1716595200-1716767999@belokakelpies.com.au
SUMMARY:Dog School @ Ararat/Beaufort VIC - May 25&26
DESCRIPTION:Two day dog training course. For more info abut what the course entails\, take a look at ‘About our Training’.\nYou can bring multiple dogs\, but you get one turn per exercise. \nThe location 191 Cornhill Road Ballyrogan VIC 3375\nStart at 9am both days\nFinish at 4-5pm both days\nLunch\, morning and afternoon tea included
URL:https://belokakelpies.com.au/event/dog-school-beaufort-vic-may-2526/
LOCATION:Victoria
CATEGORIES:Working Dog School
ATTACH;FMTTYPE=image/jpeg:https://media.belokakelpies.com.au/wp-content/uploads/2017/01/1704-Beloka-Easter-Trial-44-of-110.jpg
ORGANIZER;CN="Anneke Homan":MAILTO:anneke@belokakelpies.com.au
END:VEVENT
END:VCALENDAR